Package: VanillaICE Version: 1.72.0 Command: /home/biocbuild/bbs-3.22-bioc/R/bin/R CMD build --keep-empty-dirs --no-resave-data --md5 VanillaICE StartedAt: 2025-11-13 20:47:26 -0500 (Thu, 13 Nov 2025) EndedAt: 2025-11-13 20:48:27 -0500 (Thu, 13 Nov 2025) EllapsedTime: 61.0 seconds RetCode: 0 Status: OK PackageFile: VanillaICE_1.72.0.tar.gz PackageFileSize: 2.078 MiB