Package: VanillaICE Version: 1.72.0 Command: /Library/Frameworks/R.framework/Resources/bin/R CMD INSTALL VanillaICE StartedAt: 2025-11-10 15:19:14 -0500 (Mon, 10 Nov 2025) EndedAt: 2025-11-10 15:19:28 -0500 (Mon, 10 Nov 2025) EllapsedTime: 14.8 seconds RetCode: 0 Status: OK