Package: VanillaICE Version: 1.72.0 Command: /Library/Frameworks/R.framework/Resources/bin/R CMD build --keep-empty-dirs --no-resave-data VanillaICE StartedAt: 2025-11-10 18:06:24 -0500 (Mon, 10 Nov 2025) EndedAt: 2025-11-10 18:06:52 -0500 (Mon, 10 Nov 2025) EllapsedTime: 28.3 seconds RetCode: 0 Status: OK PackageFile: VanillaICE_1.72.0.tar.gz PackageFileSize: 2.071 MiB