Package: VaSP Version: 1.22.0 Command: /home/biocbuild/bbs-3.22-bioc/R/bin/R CMD INSTALL VaSP StartedAt: 2025-11-11 15:33:50 -0500 (Tue, 11 Nov 2025) EndedAt: 2025-11-11 15:34:24 -0500 (Tue, 11 Nov 2025) EllapsedTime: 34.1 seconds RetCode: 0 Status: OK