Package: VaSP Version: 1.22.0 Command: /home/biocbuild/bbs-3.22-bioc/R/bin/R CMD check --install=check:VaSP.install-out.txt --library=/home/biocbuild/bbs-3.22-bioc/R/site-library --timings VaSP_1.22.0.tar.gz StartedAt: 2025-11-15 05:31:10 -0500 (Sat, 15 Nov 2025) EndedAt: 2025-11-15 05:35:17 -0500 (Sat, 15 Nov 2025) EllapsedTime: 247.2 seconds RetCode: 0 Status: OK CheckDir: VaSP.Rcheck Warnings: 0