Package: VaSP Version: 1.22.0 Command: /Library/Frameworks/R.framework/Resources/bin/R CMD INSTALL VaSP StartedAt: 2025-10-31 15:37:57 -0400 (Fri, 31 Oct 2025) EndedAt: 2025-10-31 15:38:42 -0400 (Fri, 31 Oct 2025) EllapsedTime: 45.3 seconds RetCode: 0 Status: OK