Package: VaSP Version: 1.22.0 Command: rm -rf VaSP.buildbin-libdir && mkdir VaSP.buildbin-libdir && /Users/biocbuild/BBS/utils/build-universal.sh VaSP_1.22.0.tar.gz /Library/Frameworks/R.framework/Resources/bin/R VaSP.buildbin-libdir StartedAt: 2025-11-01 02:03:51 -0400 (Sat, 01 Nov 2025) EndedAt: 2025-11-01 02:04:44 -0400 (Sat, 01 Nov 2025) EllapsedTime: 52.6 seconds RetCode: 0 Status: OK PackageFile: VaSP_1.22.0.tgz PackageFileSize: 5.731 MiB