Package: VaSP Version: 1.20.0 Command: /home/biocbuild/R/R/bin/R CMD INSTALL VaSP StartedAt: 2025-10-06 20:43:06 -0000 (Mon, 06 Oct 2025) EndedAt: 2025-10-06 20:43:53 -0000 (Mon, 06 Oct 2025) EllapsedTime: 47.1 seconds RetCode: 0 Status: OK