Package: VaSP Version: 1.22.0 Command: /Library/Frameworks/R.framework/Resources/bin/R CMD INSTALL VaSP StartedAt: 2025-11-10 15:17:21 -0500 (Mon, 10 Nov 2025) EndedAt: 2025-11-10 15:17:35 -0500 (Mon, 10 Nov 2025) EllapsedTime: 14.4 seconds RetCode: 0 Status: OK