Package: VaSP Version: 1.22.0 Command: /Library/Frameworks/R.framework/Resources/bin/R CMD build --keep-empty-dirs --no-resave-data VaSP StartedAt: 2025-11-10 18:06:53 -0500 (Mon, 10 Nov 2025) EndedAt: 2025-11-10 18:07:13 -0500 (Mon, 10 Nov 2025) EllapsedTime: 20.2 seconds RetCode: 0 Status: OK PackageFile: VaSP_1.22.0.tar.gz PackageFileSize: 8.456 MiB