Package: VaSP Version: 1.22.0 Command: rm -rf VaSP.buildbin-libdir && mkdir VaSP.buildbin-libdir && /Users/biocbuild/BBS/utils/build-universal.sh VaSP_1.22.0.tar.gz /Library/Frameworks/R.framework/Resources/bin/R VaSP.buildbin-libdir StartedAt: 2025-11-10 23:40:41 -0500 (Mon, 10 Nov 2025) EndedAt: 2025-11-10 23:40:56 -0500 (Mon, 10 Nov 2025) EllapsedTime: 15.3 seconds RetCode: 0 Status: OK PackageFile: VaSP_1.22.0.tgz PackageFileSize: 5.732 MiB