Package: VERSO Version: 1.20.0 Command: /home/biocbuild/bbs-3.22-bioc/R/bin/R CMD INSTALL VERSO StartedAt: 2025-11-14 15:08:12 -0500 (Fri, 14 Nov 2025) EndedAt: 2025-11-14 15:08:57 -0500 (Fri, 14 Nov 2025) EllapsedTime: 45.0 seconds RetCode: 0 Status: OK