Package: VERSO Version: 1.20.0 Command: /home/biocbuild/bbs-3.22-bioc/R/bin/R CMD build --keep-empty-dirs --no-resave-data --md5 VERSO StartedAt: 2025-11-14 20:50:46 -0500 (Fri, 14 Nov 2025) EndedAt: 2025-11-14 20:50:53 -0500 (Fri, 14 Nov 2025) EllapsedTime: 7.0 seconds RetCode: 0 Status: OK PackageFile: VERSO_1.20.0.tar.gz PackageFileSize: 677.9 KiB