Package: VDJdive Version: 1.12.0 Command: /home/biocbuild/bbs-3.22-bioc/R/bin/R CMD INSTALL VDJdive StartedAt: 2025-11-16 15:33:58 -0500 (Sun, 16 Nov 2025) EndedAt: 2025-11-16 15:34:24 -0500 (Sun, 16 Nov 2025) EllapsedTime: 26.3 seconds RetCode: 0 Status: OK