Package: VDJdive Version: 1.12.0 Command: /home/biocbuild/bbs-3.22-bioc/R/bin/R CMD build --keep-empty-dirs --no-resave-data --md5 VDJdive StartedAt: 2025-11-16 20:52:05 -0500 (Sun, 16 Nov 2025) EndedAt: 2025-11-16 20:52:47 -0500 (Sun, 16 Nov 2025) EllapsedTime: 42.0 seconds RetCode: 0 Status: OK PackageFile: VDJdive_1.12.0.tar.gz PackageFileSize: 543.3 KiB