Package: VCFArray Version: 1.26.0 Command: /home/biocbuild/R/R/bin/R CMD INSTALL VCFArray StartedAt: 2025-11-10 22:06:34 -0000 (Mon, 10 Nov 2025) EndedAt: 2025-11-10 22:07:32 -0000 (Mon, 10 Nov 2025) EllapsedTime: 57.9 seconds RetCode: 0 Status: OK