Package: VCFArray Version: 1.26.0 Command: /home/biocbuild/R/R/bin/R CMD check --install=check:VCFArray.install-out.txt --library=/home/biocbuild/R/R/site-library --no-vignettes --timings VCFArray_1.26.0.tar.gz StartedAt: 2025-11-11 16:11:41 -0000 (Tue, 11 Nov 2025) EndedAt: 2025-11-11 16:17:54 -0000 (Tue, 11 Nov 2025) EllapsedTime: 372.5 seconds RetCode: 0 Status: OK CheckDir: VCFArray.Rcheck Warnings: 0