Package: VCFArray Version: 1.26.0 Command: /home/biocbuild/R/R/bin/R CMD build --keep-empty-dirs --no-resave-data VCFArray StartedAt: 2025-11-11 06:06:14 -0000 (Tue, 11 Nov 2025) EndedAt: 2025-11-11 06:07:55 -0000 (Tue, 11 Nov 2025) EllapsedTime: 101.1 seconds RetCode: 0 Status: OK PackageFile: VCFArray_1.26.0.tar.gz PackageFileSize: 368.6 KiB