Package: VCFArray Version: 1.26.0 Command: /home/biocbuild/bbs-3.22-bioc/R/bin/R CMD INSTALL VCFArray StartedAt: 2025-11-11 16:02:09 -0500 (Tue, 11 Nov 2025) EndedAt: 2025-11-11 16:02:53 -0500 (Tue, 11 Nov 2025) EllapsedTime: 44.3 seconds RetCode: 0 Status: OK