Package: VCFArray Version: 1.24.0 Command: /home/biocbuild/bbs-3.21-bioc/R/bin/R CMD INSTALL VCFArray StartedAt: 2025-09-28 16:12:42 -0400 (Sun, 28 Sep 2025) EndedAt: 2025-09-28 16:13:25 -0400 (Sun, 28 Sep 2025) EllapsedTime: 42.5 seconds RetCode: 0 Status: OK