Package: VCFArray Version: 1.24.0 Command: /home/biocbuild/bbs-3.21-bioc/R/bin/R CMD check --install=check:VCFArray.install-out.txt --library=/home/biocbuild/bbs-3.21-bioc/R/site-library --timings VCFArray_1.24.0.tar.gz StartedAt: 2025-09-29 04:44:39 -0400 (Mon, 29 Sep 2025) EndedAt: 2025-09-29 04:49:52 -0400 (Mon, 29 Sep 2025) EllapsedTime: 313.4 seconds RetCode: 0 Status: OK CheckDir: VCFArray.Rcheck Warnings: 0