Package: VCFArray Version: 1.24.0 Command: /Library/Frameworks/R.framework/Resources/bin/R CMD check --install=check:VCFArray.install-out.txt --library=/Library/Frameworks/R.framework/Resources/library --no-vignettes --timings VCFArray_1.24.0.tar.gz StartedAt: 2025-10-14 12:07:13 -0400 (Tue, 14 Oct 2025) EndedAt: 2025-10-14 12:16:46 -0400 (Tue, 14 Oct 2025) EllapsedTime: 573.7 seconds RetCode: 0 Status: OK CheckDir: VCFArray.Rcheck Warnings: 0