Package: VCFArray Version: 1.24.0 Command: rm -rf VCFArray.buildbin-libdir && mkdir VCFArray.buildbin-libdir && /Users/biocbuild/BBS/utils/build-universal.sh VCFArray_1.24.0.tar.gz /Library/Frameworks/R.framework/Resources/bin/R VCFArray.buildbin-libdir StartedAt: 2025-09-26 16:18:50 -0400 (Fri, 26 Sep 2025) EndedAt: 2025-09-26 16:20:26 -0400 (Fri, 26 Sep 2025) EllapsedTime: 95.4 seconds RetCode: 0 Status: OK PackageFile: VCFArray_1.24.0.tgz PackageFileSize: 1.042 MiB