Package: VCFArray Version: 1.24.0 Command: /Library/Frameworks/R.framework/Resources/bin/R CMD check --install=check:VCFArray.install-out.txt --library=/Library/Frameworks/R.framework/Resources/library --no-vignettes --timings VCFArray_1.24.0.tar.gz StartedAt: 2025-10-01 16:27:03 -0400 (Wed, 01 Oct 2025) EndedAt: 2025-10-01 16:32:34 -0400 (Wed, 01 Oct 2025) EllapsedTime: 331.4 seconds RetCode: 0 Status: OK CheckDir: VCFArray.Rcheck Warnings: 0