Package: VCFArray Version: 1.24.0 Command: rm -rf VCFArray.buildbin-libdir && mkdir VCFArray.buildbin-libdir && /Users/biocbuild/BBS/utils/build-universal.sh VCFArray_1.24.0.tar.gz /Library/Frameworks/R.framework/Resources/bin/R VCFArray.buildbin-libdir StartedAt: 2025-09-27 19:58:38 -0400 (Sat, 27 Sep 2025) EndedAt: 2025-09-27 19:59:34 -0400 (Sat, 27 Sep 2025) EllapsedTime: 56.1 seconds RetCode: 0 Status: OK PackageFile: VCFArray_1.24.0.tgz PackageFileSize: 1.042 MiB