Package: VAExprs Version: 1.16.0 Command: /home/biocbuild/bbs-3.22-bioc/R/bin/R CMD INSTALL VAExprs StartedAt: 2025-11-11 16:00:15 -0500 (Tue, 11 Nov 2025) EndedAt: 2025-11-11 16:00:50 -0500 (Tue, 11 Nov 2025) EllapsedTime: 34.4 seconds RetCode: 0 Status: OK