Package: VAExprs Version: 1.16.0 Command: /home/biocbuild/bbs-3.22-bioc/R/bin/R CMD check --install=check:VAExprs.install-out.txt --library=/home/biocbuild/bbs-3.22-bioc/R/site-library --timings VAExprs_1.16.0.tar.gz StartedAt: 2025-11-18 09:44:31 -0500 (Tue, 18 Nov 2025) EndedAt: 2025-11-18 09:49:05 -0500 (Tue, 18 Nov 2025) EllapsedTime: 274.2 seconds RetCode: 0 Status: OK CheckDir: VAExprs.Rcheck Warnings: 0