Package: VAExprs Version: 1.16.0 Command: /Library/Frameworks/R.framework/Resources/bin/R CMD build --keep-empty-dirs --no-resave-data VAExprs StartedAt: 2025-11-03 19:11:33 -0500 (Mon, 03 Nov 2025) EndedAt: 2025-11-03 19:12:40 -0500 (Mon, 03 Nov 2025) EllapsedTime: 67.4 seconds RetCode: 1 Status: ERROR PackageFile: None PackageFileSize: NA