Package: VAExprs Version: 1.14.0 Command: /home/biocbuild/R/R/bin/R CMD INSTALL VAExprs StartedAt: 2025-10-13 21:14:45 -0000 (Mon, 13 Oct 2025) EndedAt: 2025-10-13 21:15:37 -0000 (Mon, 13 Oct 2025) EllapsedTime: 51.9 seconds RetCode: 0 Status: OK