Package: VAExprs Version: 1.16.0 Command: /Library/Frameworks/R.framework/Resources/bin/R CMD build --keep-empty-dirs --no-resave-data VAExprs StartedAt: 2025-10-30 00:30:54 -0400 (Thu, 30 Oct 2025) EndedAt: 2025-10-30 00:31:11 -0400 (Thu, 30 Oct 2025) EllapsedTime: 17.2 seconds RetCode: 0 Status: OK PackageFile: VAExprs_1.16.0.tar.gz PackageFileSize: 561.7 KiB