Package: Uniquorn Version: 2.30.0 Command: /home/biocbuild/bbs-3.22-bioc/R/bin/R CMD INSTALL Uniquorn StartedAt: 2025-11-11 15:44:52 -0500 (Tue, 11 Nov 2025) EndedAt: 2025-11-11 15:45:31 -0500 (Tue, 11 Nov 2025) EllapsedTime: 39.8 seconds RetCode: 0 Status: OK