Package: UniProt.ws Version: 2.50.0 Command: /home/biocbuild/R/R/bin/R CMD INSTALL UniProt.ws StartedAt: 2025-11-13 21:39:58 -0000 (Thu, 13 Nov 2025) EndedAt: 2025-11-13 21:40:18 -0000 (Thu, 13 Nov 2025) EllapsedTime: 19.5 seconds RetCode: 0 Status: OK