Package: UniProt.ws Version: 2.50.0 Command: /home/biocbuild/R/R/bin/R CMD build --keep-empty-dirs --no-resave-data UniProt.ws StartedAt: 2025-11-14 06:11:48 -0000 (Fri, 14 Nov 2025) EndedAt: 2025-11-14 06:12:24 -0000 (Fri, 14 Nov 2025) EllapsedTime: 36.0 seconds RetCode: 0 Status: OK PackageFile: UniProt.ws_2.50.0.tar.gz PackageFileSize: 267.1 KiB