Package: UniProt.ws Version: 2.50.0 Command: /home/biocbuild/bbs-3.22-bioc/R/bin/R CMD check --install=check:UniProt.ws.install-out.txt --library=/home/biocbuild/bbs-3.22-bioc/R/site-library --timings UniProt.ws_2.50.0.tar.gz StartedAt: 2025-11-12 05:16:28 -0500 (Wed, 12 Nov 2025) EndedAt: 2025-11-12 05:19:02 -0500 (Wed, 12 Nov 2025) EllapsedTime: 153.2 seconds RetCode: 0 Status: OK CheckDir: UniProt.ws.Rcheck Warnings: 0