Package: UniProt.ws Version: 2.48.0 Command: /home/biocbuild/bbs-3.21-bioc/R/bin/R CMD INSTALL UniProt.ws StartedAt: 2025-10-05 15:31:07 -0400 (Sun, 05 Oct 2025) EndedAt: 2025-10-05 15:31:21 -0400 (Sun, 05 Oct 2025) EllapsedTime: 14.1 seconds RetCode: 0 Status: OK