Package: UniProt.ws Version: 2.48.0 Command: /home/biocbuild/bbs-3.21-bioc/R/bin/R CMD build --keep-empty-dirs --no-resave-data UniProt.ws StartedAt: 2025-10-05 20:28:01 -0400 (Sun, 05 Oct 2025) EndedAt: 2025-10-05 20:28:26 -0400 (Sun, 05 Oct 2025) EllapsedTime: 25.0 seconds RetCode: 0 Status: OK PackageFile: UniProt.ws_2.48.0.tar.gz PackageFileSize: 240.7 KiB