Package: UniProt.ws Version: 2.48.0 Command: /Library/Frameworks/R.framework/Resources/bin/R CMD build --keep-empty-dirs --no-resave-data UniProt.ws StartedAt: 2025-10-13 23:26:39 -0400 (Mon, 13 Oct 2025) EndedAt: 2025-10-13 23:27:34 -0400 (Mon, 13 Oct 2025) EllapsedTime: 55.4 seconds RetCode: 0 Status: OK PackageFile: UniProt.ws_2.48.0.tar.gz PackageFileSize: 240.6 KiB