Package: UniProt.ws Version: 2.48.0 Command: /Library/Frameworks/R.framework/Resources/bin/R CMD INSTALL UniProt.ws StartedAt: 2025-10-02 15:55:02 -0400 (Thu, 02 Oct 2025) EndedAt: 2025-10-02 15:55:20 -0400 (Thu, 02 Oct 2025) EllapsedTime: 17.6 seconds RetCode: 0 Status: OK