Package: UniProt.ws Version: 2.48.0 Command: /Library/Frameworks/R.framework/Resources/bin/R CMD build --keep-empty-dirs --no-resave-data UniProt.ws StartedAt: 2025-10-03 11:28:19 -0400 (Fri, 03 Oct 2025) EndedAt: 2025-10-03 11:28:50 -0400 (Fri, 03 Oct 2025) EllapsedTime: 30.5 seconds RetCode: 0 Status: OK PackageFile: UniProt.ws_2.48.0.tar.gz PackageFileSize: 240.6 KiB