Package: UniProt.ws Version: 2.48.0 Command: rm -rf UniProt.ws.buildbin-libdir && mkdir UniProt.ws.buildbin-libdir && /Users/biocbuild/BBS/utils/build-universal.sh UniProt.ws_2.48.0.tar.gz /Library/Frameworks/R.framework/Resources/bin/R UniProt.ws.buildbin-libdir StartedAt: 2025-10-04 20:26:05 -0400 (Sat, 04 Oct 2025) EndedAt: 2025-10-04 20:26:25 -0400 (Sat, 04 Oct 2025) EllapsedTime: 19.4 seconds RetCode: 0 Status: OK PackageFile: UniProt.ws_2.48.0.tgz PackageFileSize: 495.2 KiB