Package: Ularcirc Version: 1.28.0 Command: /home/biocbuild/R/R/bin/R CMD build --keep-empty-dirs --no-resave-data Ularcirc StartedAt: 2025-11-14 06:11:21 -0000 (Fri, 14 Nov 2025) EndedAt: 2025-11-14 06:11:38 -0000 (Fri, 14 Nov 2025) EllapsedTime: 17.0 seconds RetCode: 0 Status: OK PackageFile: Ularcirc_1.28.0.tar.gz PackageFileSize: 5.239 MiB