Package: Ularcirc Version: 1.28.0 Command: /home/biocbuild/bbs-3.22-bioc/R/bin/R CMD INSTALL Ularcirc StartedAt: 2025-11-11 15:45:51 -0500 (Tue, 11 Nov 2025) EndedAt: 2025-11-11 15:46:02 -0500 (Tue, 11 Nov 2025) EllapsedTime: 10.9 seconds RetCode: 0 Status: OK