Package: Ularcirc Version: 1.28.0 Command: /home/biocbuild/bbs-3.22-bioc/R/bin/R CMD check --install=check:Ularcirc.install-out.txt --library=/home/biocbuild/bbs-3.22-bioc/R/site-library --timings Ularcirc_1.28.0.tar.gz StartedAt: 2025-11-12 05:15:18 -0500 (Wed, 12 Nov 2025) EndedAt: 2025-11-12 05:17:09 -0500 (Wed, 12 Nov 2025) EllapsedTime: 110.1 seconds RetCode: 0 Status: WARNINGS CheckDir: Ularcirc.Rcheck Warnings: 1