Package: Ularcirc Version: 1.26.0 Command: /home/biocbuild/bbs-3.21-bioc/R/bin/R CMD INSTALL Ularcirc StartedAt: 2025-10-08 15:39:52 -0400 (Wed, 08 Oct 2025) EndedAt: 2025-10-08 15:40:03 -0400 (Wed, 08 Oct 2025) EllapsedTime: 10.4 seconds RetCode: 0 Status: OK