Package: Ularcirc Version: 1.26.0 Command: /Library/Frameworks/R.framework/Resources/bin/R CMD INSTALL Ularcirc StartedAt: 2025-10-09 17:24:24 -0400 (Thu, 09 Oct 2025) EndedAt: 2025-10-09 17:24:37 -0400 (Thu, 09 Oct 2025) EllapsedTime: 12.5 seconds RetCode: 0 Status: OK