Package: Ularcirc Version: 1.26.0 Command: rm -rf Ularcirc.buildbin-libdir && mkdir Ularcirc.buildbin-libdir && /Users/biocbuild/BBS/utils/build-universal.sh Ularcirc_1.26.0.tar.gz /Library/Frameworks/R.framework/Resources/bin/R Ularcirc.buildbin-libdir StartedAt: 2025-10-11 22:46:13 -0400 (Sat, 11 Oct 2025) EndedAt: 2025-10-11 22:46:28 -0400 (Sat, 11 Oct 2025) EllapsedTime: 14.9 seconds RetCode: 0 Status: OK PackageFile: Ularcirc_1.26.0.tgz PackageFileSize: 4.852 MiB