Package: UPDhmm Version: 1.6.0 Command: /home/biocbuild/bbs-3.22-bioc/R/bin/R CMD check --install=check:UPDhmm.install-out.txt --library=/home/biocbuild/bbs-3.22-bioc/R/site-library --timings UPDhmm_1.6.0.tar.gz StartedAt: 2025-11-21 05:46:01 -0500 (Fri, 21 Nov 2025) EndedAt: 2025-11-21 05:47:41 -0500 (Fri, 21 Nov 2025) EllapsedTime: 100.1 seconds RetCode: 0 Status: OK CheckDir: UPDhmm.Rcheck Warnings: 0