Package: UPDhmm Version: 1.6.0 Command: /home/biocbuild/bbs-3.22-bioc/R/bin/R CMD build --keep-empty-dirs --no-resave-data --md5 UPDhmm StartedAt: 2025-11-11 20:48:55 -0500 (Tue, 11 Nov 2025) EndedAt: 2025-11-11 20:49:22 -0500 (Tue, 11 Nov 2025) EllapsedTime: 27.0 seconds RetCode: 0 Status: OK PackageFile: UPDhmm_1.6.0.tar.gz PackageFileSize: 1.112 MiB