Package: UPDhmm Version: 1.6.0 Command: /Library/Frameworks/R.framework/Resources/bin/R CMD INSTALL UPDhmm StartedAt: 2025-11-03 15:42:42 -0500 (Mon, 03 Nov 2025) EndedAt: 2025-11-03 15:42:45 -0500 (Mon, 03 Nov 2025) EllapsedTime: 3.1 seconds RetCode: 0 Status: OK