Package: UPDhmm Version: 1.4.0 Command: /home/biocbuild/R/R/bin/R CMD INSTALL UPDhmm StartedAt: 2025-10-13 20:56:22 -0000 (Mon, 13 Oct 2025) EndedAt: 2025-10-13 20:56:24 -0000 (Mon, 13 Oct 2025) EllapsedTime: 2.0 seconds RetCode: 0 Status: OK